BEGIN:VCALENDAR
VERSION:2.0
PRODID:-//Kay Ray - ECPv6.15.20//NONSGML v1.0//EN
CALSCALE:GREGORIAN
METHOD:PUBLISH
X-WR-CALNAME:Kay Ray
X-ORIGINAL-URL:https://kayray.de
X-WR-CALDESC:Veranstaltungen für Kay Ray
REFRESH-INTERVAL;VALUE=DURATION:PT1H
X-Robots-Tag:noindex
X-PUBLISHED-TTL:PT1H
BEGIN:VTIMEZONE
TZID:Europe/Berlin
BEGIN:DAYLIGHT
TZOFFSETFROM:+0100
TZOFFSETTO:+0200
TZNAME:CEST
DTSTART:20250330T010000
END:DAYLIGHT
BEGIN:STANDARD
TZOFFSETFROM:+0200
TZOFFSETTO:+0100
TZNAME:CET
DTSTART:20251026T010000
END:STANDARD
BEGIN:DAYLIGHT
TZOFFSETFROM:+0100
TZOFFSETTO:+0200
TZNAME:CEST
DTSTART:20260329T010000
END:DAYLIGHT
BEGIN:STANDARD
TZOFFSETFROM:+0200
TZOFFSETTO:+0100
TZNAME:CET
DTSTART:20261025T010000
END:STANDARD
BEGIN:DAYLIGHT
TZOFFSETFROM:+0100
TZOFFSETTO:+0200
TZNAME:CEST
DTSTART:20270328T010000
END:DAYLIGHT
BEGIN:STANDARD
TZOFFSETFROM:+0200
TZOFFSETTO:+0100
TZNAME:CET
DTSTART:20271031T010000
END:STANDARD
END:VTIMEZONE
BEGIN:VEVENT
DTSTART;TZID=Europe/Berlin:20260424T200000
DTEND;TZID=Europe/Berlin:20260424T223000
DTSTAMP:20260424T143347
CREATED:20260117T192445Z
LAST-MODIFIED:20260420T114915Z
UID:226000-1777060800-1777069800@kayray.de
SUMMARY:Kay Ray Show
DESCRIPTION:Aktuelle Infos zu den Showterminen\nAlle Showtermine auf dieser Webseite sind aktuell.Aufgrund eines familiären Krankheitsfalls kann es kurzfristig zu Absagen oder Verschiebungen kommen. Bitte schaut regelmäßig auf der Terminseite vorbei. \nauf den 16.12.2026. Bereits gekaufte Tickets behalten selbstverständlich ihre Gültigkeit für den Ersatztermin.
URL:https://kayray.de/event/kay-ray-show-30/
LOCATION:Rotkehlchen in der Waggonhalle\, Rudolf-Bultmann-Str 2a\, Marburg\, Hessen\, 35039\, Germany
END:VEVENT
BEGIN:VEVENT
DTSTART;TZID=Europe/Berlin:20260425T200000
DTEND;TZID=Europe/Berlin:20260425T230000
DTSTAMP:20260424T143347
CREATED:20260117T192736Z
LAST-MODIFIED:20260420T115010Z
UID:226003-1777147200-1777158000@kayray.de
SUMMARY:Kay Ray Show
DESCRIPTION:Aktuelle Infos zu den Showterminen\nAlle Showtermine auf dieser Webseite sind aktuell.Aufgrund eines familiären Krankheitsfalls kann es kurzfristig zu Absagen oder Verschiebungen kommen. Bitte schaut regelmäßig auf der Terminseite vorbei. \nauf den 31.10.2026. Bereits gekaufte Tickets behalten selbstverständlich ihre Gültigkeit für den Ersatztermin.
URL:https://kayray.de/event/kay-ray-show-31/
LOCATION:Theater Sapperlot\, Stiftstraße 18\, Lorsch\, Hessen\, 64653\, Germany
END:VEVENT
BEGIN:VEVENT
DTSTART;TZID=Europe/Berlin:20260426T190000
DTEND;TZID=Europe/Berlin:20260426T230000
DTSTAMP:20260424T143347
CREATED:20260117T194005Z
LAST-MODIFIED:20260420T115104Z
UID:226006-1777230000-1777244400@kayray.de
SUMMARY:Kay Ray Show
DESCRIPTION:Aktuelle Infos zu den Showterminen\nAlle Showtermine auf dieser Webseite sind aktuell.Aufgrund eines familiären Krankheitsfalls kann es kurzfristig zu Absagen oder Verschiebungen kommen. Bitte schaut regelmäßig auf der Terminseite vorbei. \nauf den 18.04.2027. Bereits gekaufte Tickets behalten selbstverständlich ihre Gültigkeit für den Ersatztermin.
URL:https://kayray.de/event/kay-ray-show-32/
LOCATION:Cafe Hahn\, Neustraße 15\, Koblenz\, Rheinland-Pfalz\, 56072\, Germany
END:VEVENT
BEGIN:VEVENT
DTSTART;TZID=Europe/Berlin:20260427T200000
DTEND;TZID=Europe/Berlin:20260427T230000
DTSTAMP:20260424T143347
CREATED:20260117T194258Z
LAST-MODIFIED:20260420T114712Z
UID:226009-1777320000-1777330800@kayray.de
SUMMARY:Kay Ray Show
DESCRIPTION:Aktuelle Infos zu den Showterminen\nAlle Showtermine auf dieser Webseite sind aktuell.Aufgrund eines familiären Krankheitsfalls kann es kurzfristig zu Absagen oder Verschiebungen kommen. Bitte schaut regelmäßig auf der Terminseite vorbei. \nauf den 27.10.2026. Bereits gekaufte Tickets behalten selbstverständlich ihre Gültigkeit für den Ersatztermin.
URL:https://kayray.de/event/kay-ray-show-33/
LOCATION:Pantheon Theater\, Siegburger Str. 42\, Bonn\, Nordrhein-Westfalen\, 53227\, Germany
END:VEVENT
BEGIN:VEVENT
DTSTART;TZID=Europe/Berlin:20260428T200000
DTEND;TZID=Europe/Berlin:20260428T230000
DTSTAMP:20260424T143347
CREATED:20260117T194741Z
LAST-MODIFIED:20260420T115208Z
UID:226012-1777406400-1777417200@kayray.de
SUMMARY:Kay Ray Show
DESCRIPTION:Aktuelle Infos zu den Showterminen\nAlle Showtermine auf dieser Webseite sind aktuell.Aufgrund eines familiären Krankheitsfalls kann es kurzfristig zu Absagen oder Verschiebungen kommen. Bitte schaut regelmäßig auf der Terminseite vorbei. \nauf den 18.02.2027. Bereits gekaufte Tickets behalten selbstverständlich ihre Gültigkeit für den Ersatztermin.
URL:https://kayray.de/event/kay-ray-show-34/
LOCATION:Ebertbad\, Ebertplatz 4\, Oberhausen\, Nordrhein-Westfalen\, 46045\, Germany
END:VEVENT
BEGIN:VEVENT
DTSTART;TZID=Europe/Berlin:20260430T200000
DTEND;TZID=Europe/Berlin:20260430T230000
DTSTAMP:20260424T143347
CREATED:20260117T195319Z
LAST-MODIFIED:20260421T055952Z
UID:226015-1777579200-1777590000@kayray.de
SUMMARY:Kay Ray Show
DESCRIPTION:Aktuelle Infos zu den Showterminen\nAlle Showtermine auf dieser Webseite sind aktuell.Aufgrund eines familiären Krankheitsfalls kann es kurzfristig zu Absagen oder Verschiebungen kommen. Bitte schaut regelmäßig auf der Terminseite vorbei. \n
URL:https://kayray.de/event/kay-ray-show-35/
LOCATION:Lounge 210\, Op De Wipp 210\, Bredenbek\, Schleswig-Holstein\, 24796\, Germany
END:VEVENT
BEGIN:VEVENT
DTSTART;TZID=Europe/Berlin:20260508T235900
DTEND;TZID=Europe/Berlin:20260509T040000
DTSTAMP:20260424T143347
CREATED:20260119T112545Z
LAST-MODIFIED:20260119T113114Z
UID:226061-1778284740-1778299200@kayray.de
SUMMARY:Kay Ray Late Night
DESCRIPTION:Aktuelle Infos zu den Showterminen\nAlle Showtermine auf dieser Webseite sind aktuell.Aufgrund eines familiären Krankheitsfalls kann es kurzfristig zu Absagen oder Verschiebungen kommen. Bitte schaut regelmäßig auf der Terminseite vorbei. \n
URL:https://kayray.de/event/kay-ray-late-night-2/
LOCATION:Reeperbande\, Reeperbahn 157E\, Hamburg\, Hamburg\, 20359\, Germany
END:VEVENT
BEGIN:VEVENT
DTSTART;TZID=Europe/Berlin:20260509T200000
DTEND;TZID=Europe/Berlin:20260509T230000
DTSTAMP:20260424T143347
CREATED:20260119T113053Z
LAST-MODIFIED:20260311T163920Z
UID:226065-1778356800-1778367600@kayray.de
SUMMARY:Kay Ray Show
DESCRIPTION:Aktuelle Infos zu den Showterminen\nAlle Showtermine auf dieser Webseite sind aktuell.Aufgrund eines familiären Krankheitsfalls kann es kurzfristig zu Absagen oder Verschiebungen kommen. Bitte schaut regelmäßig auf der Terminseite vorbei. \n
URL:https://kayray.de/event/kay-ray-show-36/
LOCATION:Lutterbeker\, Dorfstraße 11\, Lutterbek\, Schleswig-Holstein\, 24235\, Germany
END:VEVENT
BEGIN:VEVENT
DTSTART;TZID=Europe/Berlin:20260511T200000
DTEND;TZID=Europe/Berlin:20260511T223000
DTSTAMP:20260424T143347
CREATED:20260119T113322Z
LAST-MODIFIED:20260119T113322Z
UID:226068-1778529600-1778538600@kayray.de
SUMMARY:Kay Ray Show
DESCRIPTION:Aktuelle Infos zu den Showterminen\nAlle Showtermine auf dieser Webseite sind aktuell.Aufgrund eines familiären Krankheitsfalls kann es kurzfristig zu Absagen oder Verschiebungen kommen. Bitte schaut regelmäßig auf der Terminseite vorbei. \n
URL:https://kayray.de/event/kay-ray-show-37/
LOCATION:Landhaus Önkfeld\, Önkfeld 6\, Radevormwald\, Nordrhein-Westfalen\, 42477\, Germany
END:VEVENT
BEGIN:VEVENT
DTSTART;TZID=Europe/Berlin:20260512T200000
DTEND;TZID=Europe/Berlin:20260512T223000
DTSTAMP:20260424T143347
CREATED:20260119T113520Z
LAST-MODIFIED:20260119T113520Z
UID:226070-1778616000-1778625000@kayray.de
SUMMARY:Kay Ray Show
DESCRIPTION:Aktuelle Infos zu den Showterminen\nAlle Showtermine auf dieser Webseite sind aktuell.Aufgrund eines familiären Krankheitsfalls kann es kurzfristig zu Absagen oder Verschiebungen kommen. Bitte schaut regelmäßig auf der Terminseite vorbei. \n
URL:https://kayray.de/event/kay-ray-show-38/
LOCATION:Landhaus Önkfeld\, Önkfeld 6\, Radevormwald\, Nordrhein-Westfalen\, 42477\, Germany
END:VEVENT
BEGIN:VEVENT
DTSTART;TZID=Europe/Berlin:20260513T200000
DTEND;TZID=Europe/Berlin:20260513T223000
DTSTAMP:20260424T143347
CREATED:20260119T113831Z
LAST-MODIFIED:20260421T070949Z
UID:226072-1778702400-1778711400@kayray.de
SUMMARY:Kay Ray Show
DESCRIPTION:Aktuelle Infos zu den Showterminen\nAlle Showtermine auf dieser Webseite sind aktuell.Aufgrund eines familiären Krankheitsfalls kann es kurzfristig zu Absagen oder Verschiebungen kommen. Bitte schaut regelmäßig auf der Terminseite vorbei. \nauf den 20.02.2027. Bereits gekaufte Tickets behalten selbstverständlich ihre Gültigkeit für den Ersatztermin oder können auf Wunsch zurückgegeben werden.
URL:https://kayray.de/event/kay-ray-show-39/
LOCATION:Artland Arena\, Jahnstraße 19\, Quakenbrück\, Niedersachsen\, 49610\, Germany
END:VEVENT
BEGIN:VEVENT
DTSTART;TZID=Europe/Berlin:20260515T200000
DTEND;TZID=Europe/Berlin:20260515T223000
DTSTAMP:20260424T143348
CREATED:20260119T114124Z
LAST-MODIFIED:20260119T114124Z
UID:226075-1778875200-1778884200@kayray.de
SUMMARY:Kay Ray Show
DESCRIPTION:Aktuelle Infos zu den Showterminen\nAlle Showtermine auf dieser Webseite sind aktuell.Aufgrund eines familiären Krankheitsfalls kann es kurzfristig zu Absagen oder Verschiebungen kommen. Bitte schaut regelmäßig auf der Terminseite vorbei. \n
URL:https://kayray.de/event/kay-ray-show-40/
LOCATION:Baluer Salon / Central Kabarett Leipzig\, Markt 9\, Leipzig\, Sachsen\, 04109
END:VEVENT
BEGIN:VEVENT
DTSTART;TZID=Europe/Berlin:20260516T200000
DTEND;TZID=Europe/Berlin:20260516T223000
DTSTAMP:20260424T143348
CREATED:20260119T114636Z
LAST-MODIFIED:20260119T115003Z
UID:226078-1778961600-1778970600@kayray.de
SUMMARY:Kay Ray Show
DESCRIPTION:Aktuelle Infos zu den Showterminen\nAlle Showtermine auf dieser Webseite sind aktuell.Aufgrund eines familiären Krankheitsfalls kann es kurzfristig zu Absagen oder Verschiebungen kommen. Bitte schaut regelmäßig auf der Terminseite vorbei. \n
URL:https://kayray.de/event/kay-ray-show-41/
LOCATION:H42 Der Klub\, Magdeburger Str. 58\, Dresden\, Sachsen\, 01067\, Germany
END:VEVENT
BEGIN:VEVENT
DTSTART;TZID=Europe/Berlin:20260521T203000
DTEND;TZID=Europe/Berlin:20260521T223000
DTSTAMP:20260424T143348
CREATED:20260119T115717Z
LAST-MODIFIED:20260119T115717Z
UID:226081-1779395400-1779402600@kayray.de
SUMMARY:Kay Ray Show
DESCRIPTION:Aktuelle Infos zu den Showterminen\nAlle Showtermine auf dieser Webseite sind aktuell.Aufgrund eines familiären Krankheitsfalls kann es kurzfristig zu Absagen oder Verschiebungen kommen. Bitte schaut regelmäßig auf der Terminseite vorbei. \n
URL:https://kayray.de/event/kay-ray-show-42/
LOCATION:Rantastic Kleinkunstbühne\, Aschmattstr. 2\, Baden-Baden / Haueneberstein\, Baden-Würtemberg\, 76532\, Germany
END:VEVENT
BEGIN:VEVENT
DTSTART;TZID=Europe/Berlin:20260522T210000
DTEND;TZID=Europe/Berlin:20260522T230000
DTSTAMP:20260424T143348
CREATED:20260119T120425Z
LAST-MODIFIED:20260302T081445Z
UID:226084-1779483600-1779490800@kayray.de
SUMMARY:Kay Ray´s Osnabrücker Spaß Camp (OSC)
DESCRIPTION:Aktuelle Infos zu den Showterminen\nAlle Showtermine auf dieser Webseite sind aktuell.Aufgrund eines familiären Krankheitsfalls kann es kurzfristig zu Absagen oder Verschiebungen kommen. Bitte schaut regelmäßig auf der Terminseite vorbei. \n
URL:https://kayray.de/event/kay-rays-osnabruecker-spass-camp-osc-2/
LOCATION:Sportverein OSC\, Hiärm-Grupe-Straße 8\, Osnabrück\, Niedersachsen\, 49080\, Germany
END:VEVENT
BEGIN:VEVENT
DTSTART;TZID=Europe/Berlin:20260523T200000
DTEND;TZID=Europe/Berlin:20260523T223000
DTSTAMP:20260424T143348
CREATED:20260119T120654Z
LAST-MODIFIED:20260119T120654Z
UID:226086-1779566400-1779575400@kayray.de
SUMMARY:Kay Ray Show
DESCRIPTION:Aktuelle Infos zu den Showterminen\nAlle Showtermine auf dieser Webseite sind aktuell.Aufgrund eines familiären Krankheitsfalls kann es kurzfristig zu Absagen oder Verschiebungen kommen. Bitte schaut regelmäßig auf der Terminseite vorbei. \n
URL:https://kayray.de/event/kay-ray-show-43/
LOCATION:Hamburger Sprechwerk\, Klaus-Groth-Straße 23\, Hamburg\, Hamburg\, 20535\, Germany
END:VEVENT
BEGIN:VEVENT
DTSTART;TZID=Europe/Berlin:20260529T193000
DTEND;TZID=Europe/Berlin:20260529T223000
DTSTAMP:20260424T143348
CREATED:20260119T120857Z
LAST-MODIFIED:20260119T120857Z
UID:226089-1780083000-1780093800@kayray.de
SUMMARY:Kay Ray Show
DESCRIPTION:Aktuelle Infos zu den Showterminen\nAlle Showtermine auf dieser Webseite sind aktuell.Aufgrund eines familiären Krankheitsfalls kann es kurzfristig zu Absagen oder Verschiebungen kommen. Bitte schaut regelmäßig auf der Terminseite vorbei. \n
URL:https://kayray.de/event/kay-ray-show-44/
LOCATION:Clack-Theater Wittenberg\, Markt 1\, Lutherstadt Wittenberg\, Sachsen-Anhalt\, 06886
END:VEVENT
BEGIN:VEVENT
DTSTART;TZID=Europe/Berlin:20260530T200000
DTEND;TZID=Europe/Berlin:20260530T220000
DTSTAMP:20260424T143348
CREATED:20260119T122323Z
LAST-MODIFIED:20260421T071038Z
UID:226092-1780171200-1780178400@kayray.de
SUMMARY:Kay Ray Show
DESCRIPTION:Aktuelle Infos zu den Showterminen\nAlle Showtermine auf dieser Webseite sind aktuell.Aufgrund eines familiären Krankheitsfalls kann es kurzfristig zu Absagen oder Verschiebungen kommen. Bitte schaut regelmäßig auf der Terminseite vorbei. \nauf den 28.8.2026. Bereits gekaufte Tickets behalten selbstverständlich ihre Gültigkeit für den Ersatztermin.
URL:https://kayray.de/event/kay-ray-show-45/
LOCATION:Blankenberg Haus der Vereine\, Lindenstraße 16\, Rosenthal am Rennsteig OT Blankenberg\, Thüringen\, 07366\, Germany
END:VEVENT
BEGIN:VEVENT
DTSTART;TZID=Europe/Berlin:20260601T193000
DTEND;TZID=Europe/Berlin:20260601T223000
DTSTAMP:20260424T143348
CREATED:20260119T122554Z
LAST-MODIFIED:20260119T122554Z
UID:226095-1780342200-1780353000@kayray.de
SUMMARY:Kay Ray Show
DESCRIPTION:Aktuelle Infos zu den Showterminen\nAlle Showtermine auf dieser Webseite sind aktuell.Aufgrund eines familiären Krankheitsfalls kann es kurzfristig zu Absagen oder Verschiebungen kommen. Bitte schaut regelmäßig auf der Terminseite vorbei. \n
URL:https://kayray.de/event/kay-ray-show-46/
LOCATION:metro-Kino im Schloßhof\, Holtenauer Str. 162-170\, Kiel\, Schleswig-Holstein\, 24105\, Germany
END:VEVENT
BEGIN:VEVENT
DTSTART;TZID=Europe/Berlin:20260605T200000
DTEND;TZID=Europe/Berlin:20260605T223000
DTSTAMP:20260424T143348
CREATED:20260119T122816Z
LAST-MODIFIED:20260119T125125Z
UID:226098-1780689600-1780698600@kayray.de
SUMMARY:Kay Ray Show
DESCRIPTION:Aktuelle Infos zu den Showterminen\nAlle Showtermine auf dieser Webseite sind aktuell.Aufgrund eines familiären Krankheitsfalls kann es kurzfristig zu Absagen oder Verschiebungen kommen. Bitte schaut regelmäßig auf der Terminseite vorbei. \n
URL:https://kayray.de/event/kay-ray-show-47/
LOCATION:KulturSchusterei\, Am Markt 16\, Barmstedt\, Schleswig-Holstein\, 25355\, Germany
END:VEVENT
BEGIN:VEVENT
DTSTART;TZID=Europe/Berlin:20260606T200000
DTEND;TZID=Europe/Berlin:20260606T223000
DTSTAMP:20260424T143348
CREATED:20260119T123443Z
LAST-MODIFIED:20260120T081654Z
UID:226100-1780776000-1780785000@kayray.de
SUMMARY:Kay Ray Show
DESCRIPTION:Aktuelle Infos zu den Showterminen\nAlle Showtermine auf dieser Webseite sind aktuell.Aufgrund eines familiären Krankheitsfalls kann es kurzfristig zu Absagen oder Verschiebungen kommen. Bitte schaut regelmäßig auf der Terminseite vorbei. \n
URL:https://kayray.de/event/kay-ray-show-48/
LOCATION:Petit Cabaret\, Prießnitzstraße 10 - 12\, Dresden\, Sachsen\, 01099\, Germany
END:VEVENT
BEGIN:VEVENT
DTSTART;TZID=Europe/Berlin:20260612T235900
DTEND;TZID=Europe/Berlin:20260613T050000
DTSTAMP:20260424T143348
CREATED:20260119T131810Z
LAST-MODIFIED:20260203T124434Z
UID:226103-1781308740-1781326800@kayray.de
SUMMARY:Kay Ray Late Night
DESCRIPTION:Aktuelle Infos zu den Showterminen\nAlle Showtermine auf dieser Webseite sind aktuell.Aufgrund eines familiären Krankheitsfalls kann es kurzfristig zu Absagen oder Verschiebungen kommen. Bitte schaut regelmäßig auf der Terminseite vorbei. \n
URL:https://kayray.de/event/kay-ray-late-night-3/
LOCATION:Reeperbande\, Reeperbahn 157E\, Hamburg\, Hamburg\, 20359\, Germany
END:VEVENT
BEGIN:VEVENT
DTSTART;TZID=Europe/Berlin:20260613T200000
DTEND;TZID=Europe/Berlin:20260613T223000
DTSTAMP:20260424T143348
CREATED:20260119T132138Z
LAST-MODIFIED:20260119T132138Z
UID:226128-1781380800-1781389800@kayray.de
SUMMARY:Ein Cocktail mit Kay Ray
DESCRIPTION:Aktuelle Infos zu den Showterminen\nAlle Showtermine auf dieser Webseite sind aktuell.Aufgrund eines familiären Krankheitsfalls kann es kurzfristig zu Absagen oder Verschiebungen kommen. Bitte schaut regelmäßig auf der Terminseite vorbei. \n
URL:https://kayray.de/event/ein-cocktail-mit-kay-ray/
LOCATION:Pi-Kollektiv\, Hans-Böckler-Str. 32\, Langenhagen\, Niedersachsen\, 30851\, Germany
END:VEVENT
BEGIN:VEVENT
DTSTART;TZID=Europe/Berlin:20260619T200000
DTEND;TZID=Europe/Berlin:20260619T223000
DTSTAMP:20260424T143348
CREATED:20260119T133322Z
LAST-MODIFIED:20260421T071419Z
UID:226131-1781899200-1781908200@kayray.de
SUMMARY:Kay Ray Show
DESCRIPTION:Aktuelle Infos zu den Showterminen\nAlle Showtermine auf dieser Webseite sind aktuell.Aufgrund eines familiären Krankheitsfalls kann es kurzfristig zu Absagen oder Verschiebungen kommen. Bitte schaut regelmäßig auf der Terminseite vorbei. \nDer Betrieb wurde eingestellt
URL:https://kayray.de/event/kay-ray-show-49/
LOCATION:Erdbeerschänke\, Händelstraße 26\, Wilkau-Haßlau\, Sachsen\, 08112\, Germany
END:VEVENT
BEGIN:VEVENT
DTSTART;TZID=Europe/Berlin:20260620T200000
DTEND;TZID=Europe/Berlin:20260620T220000
DTSTAMP:20260424T143348
CREATED:20260119T133609Z
LAST-MODIFIED:20260421T071336Z
UID:226134-1781985600-1781992800@kayray.de
SUMMARY:Kay Ray Show
DESCRIPTION:Aktuelle Infos zu den Showterminen\nAlle Showtermine auf dieser Webseite sind aktuell.Aufgrund eines familiären Krankheitsfalls kann es kurzfristig zu Absagen oder Verschiebungen kommen. Bitte schaut regelmäßig auf der Terminseite vorbei. \nDer Betrieb wurde eingestellt
URL:https://kayray.de/event/kay-ray-show-50/
LOCATION:Erdbeerschänke\, Händelstraße 26\, Wilkau-Haßlau\, Sachsen\, 08112\, Germany
END:VEVENT
BEGIN:VEVENT
DTSTART;TZID=Europe/Berlin:20260626T200000
DTEND;TZID=Europe/Berlin:20260626T223000
DTSTAMP:20260424T143348
CREATED:20260119T133928Z
LAST-MODIFIED:20260119T133928Z
UID:226136-1782504000-1782513000@kayray.de
SUMMARY:Kay Ray Show
DESCRIPTION:Aktuelle Infos zu den Showterminen\nAlle Showtermine auf dieser Webseite sind aktuell.Aufgrund eines familiären Krankheitsfalls kann es kurzfristig zu Absagen oder Verschiebungen kommen. Bitte schaut regelmäßig auf der Terminseite vorbei. \nTicketlink folgt
URL:https://kayray.de/event/kay-ray-show-51/
LOCATION:Camping & Beachclub\, Furtweg 14\, Fachbach\, Rheinland-Pfalz\, 56133\, Germany
END:VEVENT
BEGIN:VEVENT
DTSTART;TZID=Europe/Berlin:20260704T201500
DTEND;TZID=Europe/Berlin:20260704T230000
DTSTAMP:20260424T143348
CREATED:20260120T115658Z
LAST-MODIFIED:20260120T115658Z
UID:226282-1783196100-1783206000@kayray.de
SUMMARY:Kay Ray Show
DESCRIPTION:Aktuelle Infos zu den Showterminen\nAlle Showtermine auf dieser Webseite sind aktuell.Aufgrund eines familiären Krankheitsfalls kann es kurzfristig zu Absagen oder Verschiebungen kommen. Bitte schaut regelmäßig auf der Terminseite vorbei. \n
URL:https://kayray.de/event/kay-ray-show-11/
LOCATION:Senftöpfchen-Theater\, Große Neugasse 2-4\, Köln\, Nordrhein-Westfalen\, 50667\, Germany
END:VEVENT
BEGIN:VEVENT
DTSTART;TZID=Europe/Berlin:20260710T235900
DTEND;TZID=Europe/Berlin:20260711T040000
DTSTAMP:20260424T143348
CREATED:20260119T140515Z
LAST-MODIFIED:20260119T140515Z
UID:226142-1783727940-1783742400@kayray.de
SUMMARY:Kay Ray Late Night
DESCRIPTION:Aktuelle Infos zu den Showterminen\nAlle Showtermine auf dieser Webseite sind aktuell.Aufgrund eines familiären Krankheitsfalls kann es kurzfristig zu Absagen oder Verschiebungen kommen. Bitte schaut regelmäßig auf der Terminseite vorbei. \n
URL:https://kayray.de/event/kay-ray-late-night-4/
LOCATION:Reeperbande\, Reeperbahn 157E\, Hamburg\, Hamburg\, 20359\, Germany
END:VEVENT
BEGIN:VEVENT
DTSTART;TZID=Europe/Berlin:20260722T200000
DTEND;TZID=Europe/Berlin:20260722T223000
DTSTAMP:20260424T143348
CREATED:20260120T115900Z
LAST-MODIFIED:20260120T115900Z
UID:226284-1784750400-1784759400@kayray.de
SUMMARY:Kay Ray Show
DESCRIPTION:Aktuelle Infos zu den Showterminen\nAlle Showtermine auf dieser Webseite sind aktuell.Aufgrund eines familiären Krankheitsfalls kann es kurzfristig zu Absagen oder Verschiebungen kommen. Bitte schaut regelmäßig auf der Terminseite vorbei. \n
URL:https://kayray.de/event/kay-ray-show-55/
LOCATION:Die Wühlmäuse\, Pommernallee 2-4\, Berlin\, Berlin\, 14052\, Germany
END:VEVENT
BEGIN:VEVENT
DTSTART;TZID=Europe/Berlin:20260723T200000
DTEND;TZID=Europe/Berlin:20260723T223000
DTSTAMP:20260424T143348
CREATED:20260120T115945Z
LAST-MODIFIED:20260120T115950Z
UID:226287-1784836800-1784845800@kayray.de
SUMMARY:Kay Ray Show
DESCRIPTION:Aktuelle Infos zu den Showterminen\nAlle Showtermine auf dieser Webseite sind aktuell.Aufgrund eines familiären Krankheitsfalls kann es kurzfristig zu Absagen oder Verschiebungen kommen. Bitte schaut regelmäßig auf der Terminseite vorbei. \n
URL:https://kayray.de/event/kay-ray-show-56/
LOCATION:Die Wühlmäuse\, Pommernallee 2-4\, Berlin\, Berlin\, 14052\, Germany
END:VEVENT
END:VCALENDAR